BEGIN:VCALENDAR
VERSION:2.0
PRODID:-//wp-events-plugin.com//7.2.3.1//EN
TZID:America/Chicago
X-WR-TIMEZONE:America/Chicago
BEGIN:VEVENT
UID:7@puttawaycancer.org
DTSTART;TZID=America/Chicago:20160710T160000
DTEND;TZID=America/Chicago:20160710T190000
DTSTAMP:20160628T194306Z
URL:https://puttawaycancer.org/events/tha1radiosignupchallenge/
SUMMARY:Tha1Radio Sign Up Challenge
DESCRIPTION:\n\nAre you ready for some MINI-GOLF!!! Well\, THA1Radio is off
 ering more than simply good music on Sunday\, 10 July 2016! They have part
 nered with Putt Away Cancer to put the FUN back into fundraising and issue
  a Sign up challenge! There will be vendors\, raffles\, AWESOME Door prize
 s\, music\, games\, and FREE FOOD!!!\n\nWhere: Tha1Radio Station\nWhen: Su
 nday\, 10 July 2016\nTime: 4-6pm\nWhy: To help Putt Away Cancer\, one ball
  at a time!\nWho: Everyone is welcome\, all ages!\n\nWho’s team will you
  be on? Team Ms.Neka &amp\; T Rochelle\, Team Crystyle\, Team Maria Maria\
 , or Team The Gumbo Pot? The challenge has been issued…see you there!
LOCATION:Tha1Radio Station\, 4063 E. Houston St\, San Antonio\, TX\, 78222\
 , United States
GEO:29.4251667;-98.41857199999998
X-APPLE-STRUCTURED-LOCATION;VALUE=URI;X-ADDRESS=4063 E. Houston St\, San An
 tonio\, TX\, 78222\, United States;X-APPLE-RADIUS=100;X-TITLE=Tha1Radio St
 ation:geo:29.4251667,-98.41857199999998
END:VEVENT
BEGIN:VTIMEZONE
TZID:America/Chicago
X-LIC-LOCATION:America/Chicago
BEGIN:DAYLIGHT
DTSTART:20160313T030000
TZOFFSETFROM:-0600
TZOFFSETTO:-0500
TZNAME:CDT
END:DAYLIGHT
END:VTIMEZONE
END:VCALENDAR