BEGIN:VCALENDAR
VERSION:2.0
PRODID:-//wp-events-plugin.com//7.2.3.1//EN
TZID:America/Chicago
X-WR-TIMEZONE:America/Chicago
BEGIN:VEVENT
UID:1@puttawaycancer.org
DTSTART;TZID=America/Chicago:20160313T100000
DTEND;TZID=America/Chicago:20160313T180000
DTSTAMP:20160313T004122Z
URL:https://puttawaycancer.org/events/sunday-fun-day/
SUMMARY:Sunday Funday
DESCRIPTION:Stop by and say hello at our Putt Away Cancer table at the Sund
 ay Sunday!
END:VEVENT
BEGIN:VTIMEZONE
TZID:America/Chicago
X-LIC-LOCATION:America/Chicago
BEGIN:DAYLIGHT
DTSTART:20160313T030000
TZOFFSETFROM:-0600
TZOFFSETTO:-0500
TZNAME:CDT
END:DAYLIGHT
END:VTIMEZONE
END:VCALENDAR