BEGIN:VCALENDAR
VERSION:2.0
PRODID:-//wp-events-plugin.com//7.2.3.1//EN
TZID:America/Chicago
X-WR-TIMEZONE:America/Chicago
BEGIN:VEVENT
UID:9@puttawaycancer.org
DTSTART;TZID=America/Chicago:20170716T140000
DTEND;TZID=America/Chicago:20170716T170000
DTSTAMP:20170709T192422Z
URL:https://puttawaycancer.org/events/putt-away-cancer-bowl/
SUMMARY:Putt Away Cancer Bowl
DESCRIPTION:Bowling to put cancer on a permanent financial STRIKE.
CATEGORIES:FUN,Fundraising,Mixer
LOCATION:Brunswick Thousand Oaks Bowl\, 4330 Thousand Oaks Dr\, San Antonio
 \, TX\, 78217\, United States
GEO:29.5505954;-98.40979099999998
X-APPLE-STRUCTURED-LOCATION;VALUE=URI;X-ADDRESS=4330 Thousand Oaks Dr\, San
  Antonio\, TX\, 78217\, United States;X-APPLE-RADIUS=100;X-TITLE=Brunswick
  Thousand Oaks Bowl:geo:29.5505954,-98.40979099999998
END:VEVENT
BEGIN:VTIMEZONE
TZID:America/Chicago
X-LIC-LOCATION:America/Chicago
BEGIN:DAYLIGHT
DTSTART:20170312T030000
TZOFFSETFROM:-0600
TZOFFSETTO:-0500
TZNAME:CDT
END:DAYLIGHT
END:VTIMEZONE
END:VCALENDAR