BEGIN:VCALENDAR
VERSION:2.0
PRODID:-//wp-events-plugin.com//7.2.3.1//EN
TZID:America/Chicago
X-WR-TIMEZONE:America/Chicago
BEGIN:VEVENT
UID:18@puttawaycancer.org
DTSTART;TZID=America/Chicago:20231007T120000
DTEND;TZID=America/Chicago:20231007T150000
DTSTAMP:20231006T153222Z
URL:https://puttawaycancer.org/events/pac-pinktober-festival-2023/
SUMMARY:P.A.C. PINKtober Festival 2023
DESCRIPTION:[video width="720" height="720" mp4="https://puttawaycancer.org
 /wp-content/uploads/2023/08/Animated-Social-Media-Post-1.mp4"][/video]\n\n
 10
CATEGORIES:FUN,Fundraising
LOCATION:Endeavors Performing Arts & Special Events Venue\, 868 S Fort Hood
  St\, Killeen\, TX\, 76541\, United States
X-APPLE-STRUCTURED-LOCATION;VALUE=URI;X-ADDRESS=868 S Fort Hood St\, Killee
 n\, TX\, 76541\, United States;X-APPLE-RADIUS=100;X-TITLE=Endeavors Perfor
 ming Arts & Special Events Venue:geo:0,0
END:VEVENT
BEGIN:VTIMEZONE
TZID:America/Chicago
X-LIC-LOCATION:America/Chicago
BEGIN:DAYLIGHT
DTSTART:20230312T030000
TZOFFSETFROM:-0600
TZOFFSETTO:-0500
TZNAME:CDT
END:DAYLIGHT
END:VTIMEZONE
END:VCALENDAR