BEGIN:VCALENDAR
VERSION:2.0
PRODID:-//wp-events-plugin.com//7.2.3.1//EN
TZID:America/Chicago
X-WR-TIMEZONE:America/Chicago
BEGIN:VEVENT
UID:2@puttawaycancer.org
DTSTART;TZID=America/Chicago:20160917T070000
DTEND;TZID=America/Chicago:20160917T100000
DTSTAMP:20160913T141750Z
URL:https://puttawaycancer.org/events/miniature-golf-tournament/
SUMMARY:Miniature Golf Tournament
DESCRIPTION:Golfers of all levels\, dust off your putters and “Putt Away 
 Cancer” at Embassy Miniature Golf hosted by Tha1Radio! This year\, Putt 
 Away Cancer partnered with GenCure Marrow Donor Program\, proud local part
 ner of the Be The Match National marrow donor program on World Donor day
 \, to help raise awareness about Bone Marrow Donors.\n\nWe have created a 
 family friendly and fun for all ages event! Registration begins at 7am and
  The Putt Away Cancer Mini-Golf Tournament will tee off at 8 am on Saturd
 ay\, 17 September 2016. Each paid participant will receive a Putt Away Can
 cer goody bag\, a full breakfast\, and non-alcoholic beverage as part of 
 their registration.\n\nYou will also have opportunities to win some awesom
 e door prizes\, participate in a 50/50 cash challenge\, learn more about
  the bone marrow donor program &amp\; registry\, shop with our event vend
 ors\, listen to some great music\; all while making a difference for the
  cancer community.\n\nThe cost per golfer is *$50++. A portion of the proc
 eeds will benefit GenCure Marrow Donor Program\, and the Putt Away Cancer
  Scholarship Fund**.\n\nLet’s put the “FUN” back into Fundraising! G
 et everyone together to come out and enjoy a morning round of miniature go
 lf that will help cancer patients meet their financial needs.\n\n*Price ha
 s been reduced           **Sponsorship opportunities available 
                                      
                                \n\n++BioBrid
 ge Employees please contact Adriana.estrada@gencure.org for any questions.
  RSVP deadline is 9/16. 
CATEGORIES:Golf
LOCATION:Embassy Miniature Golf\, 500 Embassy Oaks\, San Antonio\, TX\, 782
 16\, United States
GEO:29.5628112;-98.48663440000001
X-APPLE-STRUCTURED-LOCATION;VALUE=URI;X-ADDRESS=500 Embassy Oaks\, San Anto
 nio\, TX\, 78216\, United States;X-APPLE-RADIUS=100;X-TITLE=Embassy Miniat
 ure Golf:geo:29.5628112,-98.48663440000001
END:VEVENT
BEGIN:VTIMEZONE
TZID:America/Chicago
X-LIC-LOCATION:America/Chicago
BEGIN:DAYLIGHT
DTSTART:20160313T030000
TZOFFSETFROM:-0600
TZOFFSETTO:-0500
TZNAME:CDT
END:DAYLIGHT
END:VTIMEZONE
END:VCALENDAR