BEGIN:VCALENDAR
VERSION:2.0
PRODID:-//wp-events-plugin.com//7.2.3.1//EN
TZID:America/Chicago
X-WR-TIMEZONE:America/Chicago
BEGIN:VEVENT
UID:14@puttawaycancer.org
DTSTART;TZID=America/Chicago:20191013T103000
DTEND;TZID=America/Chicago:20191013T220000
DTSTAMP:20190924T201524Z
URL:https://puttawaycancer.org/events/food-fundraising-event-2019-10-13/
SUMMARY:Food & FUNdraising Event
DESCRIPTION:The month of October is a BIG month for Breast Cancer Awareness
 .  So why not use this opportunity to share a meal that can also double a
 s a fundraiser for our Circle of HOPE Award and the Linda C. Bryant HOPE S
 cholarship? The Putt Away Cancer Foundation has been invited to participat
 e in an effort to giveback by local Restaurants around San Antonio\, TX. S
 o each time you click on the links (below)\, 20% of the total participants
  summed total will go to our foundation.\n\nHOW DOES THIS WORK? Everyone h
 as to click the link for their day of choice. Then you will get an RSVP pa
 ge to take with them to the restaurant. At the restaurant remind them\, "I
  am supporting the Putt Away Cancer Foundation with this meal." At the end
  of the evening\, all the receipts of everyone that participated will be t
 otaled and the restaurant will send us 20% of what was collected that day.
 \n\nYOU MUST PRE-REGISTER OR  IT WILL NOT COUNT.\n\nSunday\, 6 October 20
 19 from 10:30a-10p at MOD Pizza on in the Forum on Agora Parkway\n\nhttps:
 //www.groupraise.com/events/110704\n\n     
ATTACH;FMTTYPE=image/jpeg:https://puttawaycancer.org/wp-content/uploads/20
 19/09/FoodandFund.jpg
CATEGORIES:Fundraising
LOCATION:MOD Pizza\, 8134 Agora Parkway #250\, Live Oak\, Texas\, United St
 ates
X-APPLE-STRUCTURED-LOCATION;VALUE=URI;X-ADDRESS=8134 Agora Parkway #250\, L
 ive Oak\, Texas\, United States;X-APPLE-RADIUS=100;X-TITLE=MOD Pizza:geo:0
 ,0
END:VEVENT
BEGIN:VTIMEZONE
TZID:America/Chicago
X-LIC-LOCATION:America/Chicago
BEGIN:DAYLIGHT
DTSTART:20190310T030000
TZOFFSETFROM:-0600
TZOFFSETTO:-0500
TZNAME:CDT
END:DAYLIGHT
END:VTIMEZONE
END:VCALENDAR