BEGIN:VCALENDAR
VERSION:2.0
PRODID:-//wp-events-plugin.com//7.2.3.1//EN
TZID:America/Chicago
X-WR-TIMEZONE:America/Chicago
BEGIN:VEVENT
UID:10@puttawaycancer.org
DTSTART;TZID=America/Chicago:20180414T100000
DTEND;TZID=America/Chicago:20180414T140000
DTSTAMP:20180214T205928Z
URL:https://puttawaycancer.org/events/closest-pin-challenge/
SUMMARY:Closest to the Pin Golf Challenge
DESCRIPTION:Closest to the Pin Challenge\n[caption id="attachment_2566" ali
 gn="alignright" width="300"] Golf Simulator[/caption]\n\nPutt Away Cancer 
 presents our first Closest to the Pin Challenge at the beautiful San Pedro
  Driving Range &amp\; Par 3 Golf Course. This event will be our inaugural 
 event and serve as our introduction to the golf community. So please come 
 out and support us as we embark on a morning of good fun. The cost is $2 p
 er ball or $5 for 3. There will be raffles\, door prizes\, and awards for 
 those that participate. Anyone that signs up during our early-bird registr
 ation will also receive one shot for free. The closest to the pin challeng
 e is also a Circle of HOPE fundraiser and will help us continue to drive c
 ancer into the hole one ball at a time.
CATEGORIES:Fundraising,Golf
LOCATION:San Pedro Driving Range & Par 3\, 6102 San Pedro\, San Antonio\, T
 X\, 78216\, United States
GEO:29.4918086;-98.49890019999998
X-APPLE-STRUCTURED-LOCATION;VALUE=URI;X-ADDRESS=6102 San Pedro\, San Antoni
 o\, TX\, 78216\, United States;X-APPLE-RADIUS=100;X-TITLE=San Pedro Drivin
 g Range & Par 3:geo:29.4918086,-98.49890019999998
END:VEVENT
BEGIN:VTIMEZONE
TZID:America/Chicago
X-LIC-LOCATION:America/Chicago
BEGIN:DAYLIGHT
DTSTART:20180311T030000
TZOFFSETFROM:-0600
TZOFFSETTO:-0500
TZNAME:CDT
END:DAYLIGHT
END:VTIMEZONE
END:VCALENDAR