BEGIN:VCALENDAR
VERSION:2.0
PRODID:-//wp-events-plugin.com//7.2.3.1//EN
TZID:America/Chicago
X-WR-TIMEZONE:America/Chicago
BEGIN:VEVENT
UID:4@puttawaycancer.org
DTSTART;TZID=America/Chicago:20160709T170000
DTEND;TZID=America/Chicago:20160709T190000
DTSTAMP:20160411T172215Z
URL:https://puttawaycancer.org/events/circle-hope-mixer-2/
SUMMARY:"Circle of Hope" Mixer
DESCRIPTION:[contact-form][contact-field label='Name' type='name' required=
 '1'/][contact-field label='Email' type='email' required='1'/][contact-fiel
 d label='Website' type='url'/][contact-field label='Comment' type='textare
 a' required='1'/][/contact-form]\n\n&nbsp\;\n\n
LOCATION:4th Quarter Sports Bar\, 8779 Wurzbach Rd\, San Antonio\, TX\, 782
 40\, United States
GEO:29.5245644;-98.5693895
X-APPLE-STRUCTURED-LOCATION;VALUE=URI;X-ADDRESS=8779 Wurzbach Rd\, San Anto
 nio\, TX\, 78240\, United States;X-APPLE-RADIUS=100;X-TITLE=4th Quarter Sp
 orts Bar:geo:29.5245644,-98.5693895
END:VEVENT
BEGIN:VTIMEZONE
TZID:America/Chicago
X-LIC-LOCATION:America/Chicago
BEGIN:DAYLIGHT
DTSTART:20160313T030000
TZOFFSETFROM:-0600
TZOFFSETTO:-0500
TZNAME:CDT
END:DAYLIGHT
END:VTIMEZONE
END:VCALENDAR