BEGIN:VCALENDAR
VERSION:2.0
PRODID:-//wp-events-plugin.com//7.2.3.1//EN
TZID:America/Chicago
X-WR-TIMEZONE:America/Chicago
BEGIN:VEVENT
UID:20@puttawaycancer.org
DTSTART;TZID=America/Chicago:20250801T183000
DTEND;TZID=America/Chicago:20250801T210000
DTSTAMP:20250918T012931Z
URL:https://puttawaycancer.org/events/casting-call-pac-warriors-fashion-sh
 ow/
SUMMARY:Casting Call: PAC Warriors Fashion Show
DESCRIPTION:[video width="1920" height="1080" mp4="https://puttawaycancer.o
 rg/wp-content/uploads/2025/02/PAC-Casting-Call-Video.mp4"][/video]\nThe Pu
 tt Away Cancer Foundation is celebrating 10 years of impact\, and we’re 
 honoring the true warriors—YOU!\nWe’re seeking 12 Cancer Warriors to w
 alk the runway in our PAC Warriors Fashion Show at our 10-Year Celebration
  Banquet! This is your moment to shine\, inspire\, and celebrate resilienc
 e in style.\n✨ Styled by: NVUS Fashion &amp\; Boutique✨ Who can apply?
  Anyone who has battled any form of cancer—at any stage\, in any status.
 ✨ Special Recognition: All participants will also receive a Circle of HO
 PE Award as a token of our gratitude.\n💜 Deadline to Apply: Aug 1\, 202
 5\n📢 Join us for a powerful night of strength\, beauty\, and HOPE!\n
 📩 Apply today &amp\; be a part of this unforgettable experience!\n
CATEGORIES:Banquet
END:VEVENT
BEGIN:VTIMEZONE
TZID:America/Chicago
X-LIC-LOCATION:America/Chicago
BEGIN:DAYLIGHT
DTSTART:20250309T030000
TZOFFSETFROM:-0600
TZOFFSETTO:-0500
TZNAME:CDT
END:DAYLIGHT
END:VTIMEZONE
END:VCALENDAR