BEGIN:VCALENDAR
VERSION:2.0
PRODID:-//wp-events-plugin.com//7.2.3.1//EN
TZID:America/Chicago
X-WR-TIMEZONE:America/Chicago
BEGIN:VEVENT
UID:17@puttawaycancer.org
DTSTART;TZID=America/Chicago:20200718T110000
DTEND;TZID=America/Chicago:20200718T140000
DTSTAMP:20200708T191626Z
URL:https://puttawaycancer.org/events/brunch-away-cancer-telethon/
SUMMARY:Brunch Away Cancer Telethon
DESCRIPTION:𝗝𝗼𝗶𝗻 𝗼𝘂𝗿 𝗕𝗿𝘂𝗻𝗰𝗵 𝗔𝘄
 𝗮𝘆 𝗖𝗮𝗻𝗰𝗲𝗿 𝗧𝗲𝗹𝗲𝘁𝗵𝗼𝗻\nSaturd
 ay\, July 18 from 11a-2p\, Join The Putt Away Cancer Foundation’s Virtua
 l Fundraiser. 7 of San Antonio's hottest poets will artistically present 7
  Cancer Warriors stories through original pieces. Fiiire\, Brother Beloved
 \, Lovely Vibes\, LaLa Marie\, LaFemme Nakita\, Symbolic Soul\, and host L
 egacy City will all be featuring original pieces. It will be a COVID-19 FR
 IENDLY event live at Streetligion Nation Radio Station\, presented through
  Facebook live.\n\nGrab your favorite beverage\, grab your phone\, your cr
 edit card\, and you and all your friends tune in for our COVID19 friendly 
 fundraiser and participate in this fun and unique fundraiser. It will be G
 REAT!!!
ATTACH;FMTTYPE=image/jpeg:https://puttawaycancer.org/wp-content/uploads/20
 20/07/IMG_2849.jpg
CATEGORIES:FUN,Fundraising
END:VEVENT
BEGIN:VTIMEZONE
TZID:America/Chicago
X-LIC-LOCATION:America/Chicago
BEGIN:DAYLIGHT
DTSTART:20200308T030000
TZOFFSETFROM:-0600
TZOFFSETTO:-0500
TZNAME:CDT
END:DAYLIGHT
END:VTIMEZONE
END:VCALENDAR