BEGIN:VCALENDAR
VERSION:2.0
PRODID:-//wp-events-plugin.com//7.2.3.1//EN
TZID:America/Chicago
X-WR-TIMEZONE:America/Chicago
BEGIN:VEVENT
UID:8@puttawaycancer.org
DTSTART;TZID=America/Chicago:20170916T030000
DTEND;TZID=America/Chicago:20170916T050000
DTSTAMP:20170913T203956Z
URL:https://puttawaycancer.org/events/annual-miniature-golf-tournament/
SUMMARY:Annual Miniature Golf Tournament
DESCRIPTION:2nd Annual Putt Away Cancer Miniature Golf Tournament\n\n\n\n\n
 \nimg_5462\n\nIt's time for our 2nd Annual Putt Away Cancer Miniature Golf
  Tournament. We'll come together at the Embassy Oaks Miniature Golf Course
  for a morning of food\, fellowship\, and FUNdraising. This event is our s
 ignature FUNdraiser designed to take a unified approach to support the can
 cer community. The purpose is to raise funds for our Circle of Hope Awards
 \, which is a finacial donation given to Cancer Warriors. Together we will
  Putt Away Cancer\, 1 dollar at a time.\n\nIf you've been diagnosed with C
 ancer\, this event is for YOU. Contact us to attend the event for free and
  for the application for the Circle of Hope Award or go to https://puttawa
 ycancer.com/about-us/scholarship/ to apply online.
CATEGORIES:FUN,Fundraising,Mini-Golf
LOCATION:Embassy Miniature Golf\, 500 Embassy Oaks\, San Antonio\, TX\, 782
 16\, United States
GEO:29.5628112;-98.48663440000001
X-APPLE-STRUCTURED-LOCATION;VALUE=URI;X-ADDRESS=500 Embassy Oaks\, San Anto
 nio\, TX\, 78216\, United States;X-APPLE-RADIUS=100;X-TITLE=Embassy Miniat
 ure Golf:geo:29.5628112,-98.48663440000001
END:VEVENT
BEGIN:VTIMEZONE
TZID:America/Chicago
X-LIC-LOCATION:America/Chicago
BEGIN:DAYLIGHT
DTSTART:20170312T030000
TZOFFSETFROM:-0600
TZOFFSETTO:-0500
TZNAME:CDT
END:DAYLIGHT
END:VTIMEZONE
END:VCALENDAR