BEGIN:VCALENDAR
VERSION:2.0
PRODID:-//wp-events-plugin.com//7.2.3.1//EN
TZID:America/Chicago
X-WR-TIMEZONE:America/Chicago
BEGIN:VEVENT
UID:11@puttawaycancer.org
DTSTART;TZID=America/Chicago:20181013T100000
DTEND;TZID=America/Chicago:20181013T130000
DTSTAMP:20180920T155026Z
URL:https://puttawaycancer.org/events/3rd-annual-miniature-golf-tournament
 /
SUMMARY:3rd Annual Miniature Golf Tournament
DESCRIPTION:&nbsp\;\n\nWe’re so excited!!! We’re in our 3rd year of hos
 ting our signature HOPE FUNdraiser for Cancer Warriors!!! This year\,  ou
 r goal is to give out at least $2500 in Circle of Hope Awards\, on top of 
 event fees. But...that requires help from our support network. Please dona
 te\, sponsor\, share AND COME OUT to our 3rd Annual Miniature Golf Tournam
 ent.\n\nWhen: Saturday\, 22 Sept 2018 doors open at 10a for registration. 
 Game starts at 1030-1230. Winners will be tallied and announced by 1pm.\n\
 n[video width="720" height="720" mp4="https://puttawaycancer.com/wp-conten
 t/uploads/2018/07/99D0BF7D-AA11-4FA7-A34F-382705CA540E.mp4"][/video]\n\nWh
 ere: Cool Crest Miniature Golf Course\n\nWho: Everyone is welcomed\n\nCost
 : $15 Earlybird tickers for a limited time. Then price goes up to $20 pre-
 purchased or $25 at the door. https://puttawaycancerevents.eventbrite.com
 /
ATTACH;FMTTYPE=image/jpeg:https://puttawaycancer.org/wp-content/uploads/20
 18/07/371D44C5-EC97-445D-929D-AF856DEFA2A6.jpeg
CATEGORIES:FUN,Fundraising,Golf,Mini-Golf
LOCATION:Cool Crest Miniature Golf Course\, 1402 Fredicksburg Rd\, San Anto
 nio \, TX\, 78201\, United States
GEO:29.4580709;-98.51919620000001
X-APPLE-STRUCTURED-LOCATION;VALUE=URI;X-ADDRESS=1402 Fredicksburg Rd\, San 
 Antonio \, TX\, 78201\, United States;X-APPLE-RADIUS=100;X-TITLE=Cool Cres
 t Miniature Golf Course:geo:29.4580709,-98.51919620000001
END:VEVENT
BEGIN:VTIMEZONE
TZID:America/Chicago
X-LIC-LOCATION:America/Chicago
BEGIN:DAYLIGHT
DTSTART:20180311T030000
TZOFFSETFROM:-0600
TZOFFSETTO:-0500
TZNAME:CDT
END:DAYLIGHT
END:VTIMEZONE
END:VCALENDAR