BEGIN:VCALENDAR
VERSION:2.0
PRODID:-//wp-events-plugin.com//7.2.3.1//EN
TZID:America/Chicago
X-WR-TIMEZONE:America/Chicago
BEGIN:VEVENT
UID:19@puttawaycancer.org
DTSTART;TZID=America/Chicago:20240511T110000
DTEND;TZID=America/Chicago:20240511T150000
DTSTAMP:20240417T000317Z
URL:https://puttawaycancer.org/events/2024-telethon-pac-hope-a-thon/
SUMMARY:2024 Telethon "PAC Hope-a-Thon"
DESCRIPTION:Join the Putt Away Cancer Foundation for our 2024 Telethon. The
  purpose of the telethon is to assist in our fundraising efforts to suppor
 t our HOPE Awards" programming. Contact us for information if you're inter
 ested in becoming a sponsor or adverting your business. Hosted by Streetli
 gion Media\, LLC\, in their studio\, the event will be streamed LIVE to ov
 er 5k people on YouTube\, Facebook\, and Instagram. Contact us at info@put
 tawaycancer.org.\n\n
ATTACH;FMTTYPE=image/jpeg:https://puttawaycancer.org/wp-content/uploads/20
 24/02/HOPEaThon-Color.png
CATEGORIES:Fundraising
END:VEVENT
BEGIN:VTIMEZONE
TZID:America/Chicago
X-LIC-LOCATION:America/Chicago
BEGIN:DAYLIGHT
DTSTART:20240310T030000
TZOFFSETFROM:-0600
TZOFFSETTO:-0500
TZNAME:CDT
END:DAYLIGHT
END:VTIMEZONE
END:VCALENDAR