BEGIN:VCALENDAR
VERSION:2.0
PRODID:-//wp-events-plugin.com//7.2.3.1//EN
TZID:America/Chicago
X-WR-TIMEZONE:America/Chicago
BEGIN:VEVENT
UID:21@puttawaycancer.org
DTSTART;TZID=America/Chicago:20260502T190000
DTEND;TZID=America/Chicago:20260502T230000
DTSTAMP:20260421T160845Z
URL:https://puttawaycancer.org/events/10-year-celebration/
SUMMARY:Celebrate with us 2 May 2026 🎉
DESCRIPTION:﻿﻿\n\nSAVE THE DATE! 🎉\nThe Putt Away Cancer Foundation 
 is marking 10 incredible years of impact\, hope\, and resilience\, and we 
 want you to celebrate with us!\n✨ 10-Year Celebration Banquet &amp\; PAC
  Warriors Fashion Show ✨📅 Saturday\, 2 May 2026🕖 7:00 PM📍 Prais
 e Elegant &amp\; Event Center\, San Antonio\, TX\n💠 Tickets on sale no
 w!\n.pp-RNCNW8VCSV5RN{text-align:center\;border:none\;border-radius:0.25re
 m\;min-width:11.625rem\;padding:0 2rem\;height:3.125rem\;font-weight:bold\
 ;background-color:#ADBF2D\;color:#000000\;font-family:"Helvetica Neue"\,Ar
 ial\,sans-serif\;font-size:1.125rem\;line-height:1.5rem\;cursor:pointer\;}
 \n\n\n\nGet your tickets now!\nJoin us for an unforgettable evening as we 
 honor Cancer Warriors\, recognize community champions\, and reflect on a d
 ecade of making a difference. Witness the inspiring PAC Warriors Fashion S
 how\, where 5 warriors will take the stage in strength and style\, and hel
 p us continue our mission of spreading awareness and hope.\nWant a chance 
 to be part of our history? Become a Sponsor or purchase an ad in our 10-Ye
 ar Anniversary Program Book!\n✅ Inside Cover Ads✅ Full Page\, Half Pag
 e\, Quarter Page Options✅ Your brand showcased at our milestone event!\n
 Spots are limited—secure yours today 👉(Download PDF HERE) and email t
 o thePACfoundation@gmail.com.\n💜 Mark your calendar\, and don't forget 
 to bring a friend\, your favorite dancing shoes\, and your pocketbook. Get
  ready for some FUNdraising Fun!\n
ATTACH;FMTTYPE=image/jpeg:https://puttawaycancer.org/wp-content/uploads/20
 25/03/PAC-Banq-Spc-Flyer.png
CATEGORIES:Banquet
LOCATION:Praise Elegant & Event Center\, 1007 Poteet Jourdanton Fwy Acc Rd 
 #121 TX \,  San Antonio\, TX\, 78224\, United States
X-APPLE-STRUCTURED-LOCATION;VALUE=URI;X-ADDRESS=1007 Poteet Jourdanton Fwy 
 Acc Rd #121 TX \,  San Antonio\, TX\, 78224\, United States;X-APPLE-RADIUS
 =100;X-TITLE=Praise Elegant & Event Center:geo:0,0
END:VEVENT
BEGIN:VTIMEZONE
TZID:America/Chicago
X-LIC-LOCATION:America/Chicago
BEGIN:DAYLIGHT
DTSTART:20260308T030000
TZOFFSETFROM:-0600
TZOFFSETTO:-0500
TZNAME:CDT
END:DAYLIGHT
END:VTIMEZONE
END:VCALENDAR